BEGIN:VCALENDAR
VERSION:2.0
PRODID:-//eventon.com NONSGML v1.0//EN
CALSCALE:GREGORIAN
METHOD:PUBLISH
BEGIN:VEVENT
UID:69e5ef2be99bd
DTSTAMP:20260420T091731Z
DTSTART:20260519T170000Z
DTEND:20260519T215900Z
LOCATION:Backstage Werk Backstage Werk
SUMMARY:Gregor Hägele
DESCRIPTION:Gregor Hägele\nhttps://promoters-group-munich.de/events/gregor
 -haegele
URL:https://promoters-group-munich.de/events/gregor-haegele
END:VEVENT
END:VCALENDAR